BEGIN:VCALENDAR
VERSION:2.0
PRODID:GlueUp
CALSCALE:GREGORIAN
BEGIN:VTIMEZONE
TZID:UTC
BEGIN:STANDARD
DTSTART:19700101T000000
TZOFFSETFROM:+0000
TZOFFSETTO:+0000
TZNAME:UTC
END:STANDARD
END:VTIMEZONE
BEGIN:VEVENT
TZ:+00
ORGANIZER;CN=Yin Yu:MAILTO:yyu@amchamchina.org
UID:45649-1776832213@https://amcham.glueup.cn
DTSTAMP:20260422T043013Z
DTSTART:20241126T060000Z
DTEND:20241126T073000Z
SUMMARY:[Beijing, EN] Global Supply Chain Management Seminar and the Launch of AmCham China Supply Chain Navigator Program 2025
DESCRIPTION:[Beijing, EN] Global Supply Chain Management Seminar and the Launch of AmCham China Supply Chain Navigator Program 2025 by AmCham China\n\nNov 26, 2024 (2:00 PM - 3:30 PM)(GMT+8)\n\nFor more information, click here: https://amcham.glueup.cn/my/events/45649
LOCATION:China International Exhibition Center (Shunyi) - China
BEGIN:VALARM
TRIGGER:-PT48H
REPEAT:4
DURATION:PT30M
ACTION:DISPLAY
END:VALARM
END:VEVENT
END:VCALENDAR