BEGIN:VCALENDAR
VERSION:2.0
PRODID:GlueUp
CALSCALE:GREGORIAN
BEGIN:VTIMEZONE
TZID:UTC
BEGIN:STANDARD
DTSTART:19700101T000000
TZOFFSETFROM:+0000
TZOFFSETTO:+0000
TZNAME:UTC
END:STANDARD
END:VTIMEZONE
BEGIN:VEVENT
TZ:+00
ORGANIZER;CN=Linda Cheng:MAILTO:lcheng@amchamchina.org
UID:45624-1776646602@https://amcham.glueup.cn
DTSTAMP:20260420T005642Z
DTSTART:20241114T040000Z
DTEND:20241114T063000Z
SUMMARY:[Tianjin, CN] Women Professionals Committee (WPC) Luncheon--Pension Planning and Legal Risk Insights in the Context of Delayed Retirement
DESCRIPTION:[Tianjin, CN] Women Professionals Committee (WPC) Luncheon--Pension Planning and Legal Risk Insights in the Context of Delayed Retirement by AmCham China\n\nNov 14, 2024 (12:00 PM - 2:30 PM)(GMT+8)\n\nFor more information, click here: https://amcham.glueup.cn/my/events/45624
LOCATION:Garnet Room, 1F of  Shangri-La Tianjin天津香格里拉一楼石榴石厅 - No.328 - Haihe East Road - Hedong District - Tianjin - 天津市河东区海河东路328号 Shangri-La Tianjin - China
BEGIN:VALARM
TRIGGER:-PT48H
REPEAT:4
DURATION:PT30M
ACTION:DISPLAY
END:VALARM
END:VEVENT
END:VCALENDAR