BEGIN:VCALENDAR
VERSION:2.0
PRODID:GlueUp
CALSCALE:GREGORIAN
BEGIN:VTIMEZONE
TZID:UTC
BEGIN:STANDARD
DTSTART:19700101T000000
TZOFFSETFROM:+0000
TZOFFSETTO:+0000
TZNAME:UTC
END:STANDARD
END:VTIMEZONE
BEGIN:VEVENT
TZ:+00
ORGANIZER;CN=Aurelia Kassatly:MAILTO:akassatly@amchamchina.org
UID:4560-1776899001@https://amcham.glueup.cn
DTSTAMP:20260422T230321Z
DTSTART:20160414T010000Z
DTEND:20160415T093000Z
SUMMARY:2016 APCAC Business Conference
DESCRIPTION:2016 APCAC Business Conference by AmCham China\n\nApr 14 & 15, 2016(GMT+8)\n\nFor more information, click here: https://amcham.glueup.cn/my/events/4560
LOCATION:Renaissance Beijing Capital Hotel - No.61 East 3rd Ring Middle Road - Chaoyang District Beijing - China
BEGIN:VALARM
TRIGGER:-PT48H
REPEAT:4
DURATION:PT30M
ACTION:DISPLAY
END:VALARM
END:VEVENT
END:VCALENDAR