BEGIN:VCALENDAR
VERSION:2.0
PRODID:GlueUp
CALSCALE:GREGORIAN
BEGIN:VTIMEZONE
TZID:UTC
BEGIN:STANDARD
DTSTART:19700101T000000
TZOFFSETFROM:+0000
TZOFFSETTO:+0000
TZNAME:UTC
END:STANDARD
END:VTIMEZONE
BEGIN:VEVENT
TZ:+00
ORGANIZER;CN=Ada Yang:MAILTO:ayang@amchamchina.org
UID:45522-1776646595@https://amcham.glueup.cn
DTSTAMP:20260420T005635Z
DTSTART:20241122T110000Z
DTEND:20241122T140000Z
SUMMARY:[POSTPONED] [Beijing, CN] Fuel Your Body, Sharpen Your Mind with American Football
DESCRIPTION:[POSTPONED] [Beijing, CN] Fuel Your Body, Sharpen Your Mind with American Football by AmCham China\n\nNov 22, 2024 (7:00 PM - 10:00 PM)(GMT+8)\n\nFor more information, click here: https://amcham.glueup.cn/my/events/45522
LOCATION:Daystar Academy Sanlitun Campus 启明星学校三里屯校区 - No.13 Sanlitun East 4th Street - Chaoyang District - Beijing - 北京市朝阳区三里屯东四街13号 China
BEGIN:VALARM
TRIGGER:-PT48H
REPEAT:4
DURATION:PT30M
ACTION:DISPLAY
END:VALARM
END:VEVENT
END:VCALENDAR