BEGIN:VCALENDAR
VERSION:2.0
PRODID:GlueUp
CALSCALE:GREGORIAN
BEGIN:VTIMEZONE
TZID:UTC
BEGIN:STANDARD
DTSTART:19700101T000000
TZOFFSETFROM:+0000
TZOFFSETTO:+0000
TZNAME:UTC
END:STANDARD
END:VTIMEZONE
BEGIN:VEVENT
TZ:+00
ORGANIZER;CN=Yin Yu:MAILTO:yyu@amchamchina.org
UID:45467-1776653627@https://amcham.glueup.cn
DTSTAMP:20260420T025347Z
DTSTART:20241025T071500Z
DTEND:20241025T090000Z
SUMMARY:[Beijing, EN&CN] Empowering Her: A Workshop on Crafting Your Professional Image
DESCRIPTION:[Beijing, EN&CN] Empowering Her: A Workshop on Crafting Your Professional Image by AmCham China\n\nOct 25, 2024 (3:15 PM - 5:00 PM)(GMT+8)\n\nFor more information, click here: https://amcham.glueup.cn/my/events/45467
LOCATION:Beijing SKP - 北京SKP 三层L148店铺D3141 - 朝阳区建国路88号 China
BEGIN:VALARM
TRIGGER:-PT48H
REPEAT:4
DURATION:PT30M
ACTION:DISPLAY
END:VALARM
END:VEVENT
END:VCALENDAR