BEGIN:VCALENDAR
VERSION:2.0
PRODID:GlueUp
CALSCALE:GREGORIAN
BEGIN:VTIMEZONE
TZID:UTC
BEGIN:STANDARD
DTSTART:19700101T000000
TZOFFSETFROM:+0000
TZOFFSETTO:+0000
TZNAME:UTC
END:STANDARD
END:VTIMEZONE
BEGIN:VEVENT
TZ:+00
ORGANIZER;CN=Lina Wang:MAILTO:lwang@amchamchina.org
UID:45461-1776654488@https://amcham.glueup.cn
DTSTAMP:20260420T030808Z
DTSTART:20241123T080000Z
DTEND:20241123T110000Z
SUMMARY:[Wuhan, CN&EN] AmCham China Central China Chapter 2024 Thanksgiving Potluck & Annual Family Gathering
DESCRIPTION:[Wuhan, CN&EN] AmCham China Central China Chapter 2024 Thanksgiving Potluck & Annual Family Gathering by AmCham China\n\nNov 23, 2024 (4:00 PM - 7:00 PM)(GMT+8)\n\nFor more information, click here: https://amcham.glueup.cn/my/events/45461
LOCATION:Topgolf Wuhan - No.88 Yangjialing - Hanyang District Wuhan - Hubei - China
BEGIN:VALARM
TRIGGER:-PT48H
REPEAT:4
DURATION:PT30M
ACTION:DISPLAY
END:VALARM
END:VEVENT
END:VCALENDAR