BEGIN:VCALENDAR
VERSION:2.0
PRODID:GlueUp
CALSCALE:GREGORIAN
BEGIN:VTIMEZONE
TZID:UTC
BEGIN:STANDARD
DTSTART:19700101T000000
TZOFFSETFROM:+0000
TZOFFSETTO:+0000
TZNAME:UTC
END:STANDARD
END:VTIMEZONE
BEGIN:VEVENT
TZ:+00
ORGANIZER;CN=Xi Wang:MAILTO:xwang@amchamchina.org
UID:45449-1776654538@https://amcham.glueup.cn
DTSTAMP:20260420T030858Z
DTSTART:20241030T010000Z
DTEND:20241030T020000Z
SUMMARY:[Beijing, EN&CN]  AmCham China Healthcare Industry Group Q3 Breakfast Meeting
DESCRIPTION:[Beijing, EN&CN]  AmCham China Healthcare Industry Group Q3 Breakfast Meeting by AmCham China\n\nOct 30, 2024 (9:00 AM - 10:00 AM)(GMT+8)\n\nFor more information, click here: https://amcham.glueup.cn/my/events/45449
LOCATION:中国美国商会 Amcham China - 中国北京市朝阳区工体北路甲2号，盈科中心4号门3层 -  - 3F - Gate 4 - Pacific Century Place - 2A Workers' Stadium North Road - Beijing - PRC - 100027 Beijing - China
BEGIN:VALARM
TRIGGER:-PT48H
REPEAT:4
DURATION:PT30M
ACTION:DISPLAY
END:VALARM
END:VEVENT
END:VCALENDAR