BEGIN:VCALENDAR
VERSION:2.0
PRODID:GlueUp
CALSCALE:GREGORIAN
BEGIN:VTIMEZONE
TZID:UTC
BEGIN:STANDARD
DTSTART:19700101T000000
TZOFFSETFROM:+0000
TZOFFSETTO:+0000
TZNAME:UTC
END:STANDARD
END:VTIMEZONE
BEGIN:VEVENT
TZ:+00
ORGANIZER;CN=Melody Wen:MAILTO:mwen@amchamchina.org
UID:45421-1776654489@https://amcham.glueup.cn
DTSTAMP:20260420T030809Z
DTSTART:20241119T061500Z
DTEND:20241119T083000Z
SUMMARY:[Beijing, CN] Policy Briefing on Entry-Exit and Permanent Residency Applications for Foreign Talent
DESCRIPTION:AmCham China发布活动[Beijing, CN] Policy Briefing on Entry-Exit and Permanent Residency Applications for Foreign Talent\n\n2024年11月19日（下午 2:15 - 下午 4:30）(GMT+8)\n\n更多信息，访问https://amcham.glueup.cn/my/events/45421
LOCATION:中国美国商会 AmCham China - 中国北京市朝阳区工体北路甲2号， 盈科中心4号门3层。
BEGIN:VALARM
TRIGGER:-PT48H
REPEAT:4
DURATION:PT30M
ACTION:DISPLAY
END:VALARM
END:VEVENT
END:VCALENDAR