BEGIN:VCALENDAR
VERSION:2.0
PRODID:GlueUp
CALSCALE:GREGORIAN
BEGIN:VTIMEZONE
TZID:UTC
BEGIN:STANDARD
DTSTART:19700101T000000
TZOFFSETFROM:+0000
TZOFFSETTO:+0000
TZNAME:UTC
END:STANDARD
END:VTIMEZONE
BEGIN:VEVENT
TZ:+00
ORGANIZER;CN=Wei Wei:MAILTO:wwei@amchamchina.org
UID:45407-1776654539@https://amcham.glueup.cn
DTSTAMP:20260420T030859Z
DTSTART:20241026T080000Z
DTEND:20241026T090000Z
SUMMARY:[Chengdu, CN&EN] The Walking History of American Whisky: 2024 Chengdu Whisky Masterclass
DESCRIPTION:[Chengdu, CN&EN] The Walking History of American Whisky: 2024 Chengdu Whisky Masterclass by AmCham China\n\nOct 26, 2024 (4:00 PM - 5:00 PM)(GMT+8)\n\nFor more information, click here: https://amcham.glueup.cn/my/events/45407
LOCATION:Ball Room, Grand Hyatt Chengdu 成都群光君悦酒店·宴会厅 - 12/F - NO. 8 - Chunxi Road South - Jinjiang District - Chengdu - 成都市锦江区春熙路南段8号成都群光君悦酒店12层 Chengdu - Sichuan - China
BEGIN:VALARM
TRIGGER:-PT48H
REPEAT:4
DURATION:PT30M
ACTION:DISPLAY
END:VALARM
END:VEVENT
END:VCALENDAR