BEGIN:VCALENDAR
VERSION:2.0
PRODID:GlueUp
CALSCALE:GREGORIAN
BEGIN:VTIMEZONE
TZID:UTC
BEGIN:STANDARD
DTSTART:19700101T000000
TZOFFSETFROM:+0000
TZOFFSETTO:+0000
TZNAME:UTC
END:STANDARD
END:VTIMEZONE
BEGIN:VEVENT
TZ:+00
ORGANIZER;CN=Lucinda Liu:MAILTO:lliu@amchamchina.org
UID:45367-1776654487@https://amcham.glueup.cn
DTSTAMP:20260420T030807Z
DTSTART:20241022T003000Z
DTEND:20241022T043000Z
SUMMARY:[Beijing, EN&CN] AI & RE Energy Drive Subnational Green Energy and Power Development
DESCRIPTION:[Beijing, EN&CN] AI & RE Energy Drive Subnational Green Energy and Power Development by AmCham China\n\nOct 22, 2024 (8:30 AM - 12:30 PM)(GMT+8)\n\nFor more information, click here: https://amcham.glueup.cn/my/events/45367
LOCATION:Beijing Oriental Garden Hotel - No. 6 Dongzhimen Nandajie - Dongcheng District - Beijing Beijing - China
BEGIN:VALARM
TRIGGER:-PT48H
REPEAT:4
DURATION:PT30M
ACTION:DISPLAY
END:VALARM
END:VEVENT
END:VCALENDAR