BEGIN:VCALENDAR
VERSION:2.0
PRODID:GlueUp
CALSCALE:GREGORIAN
BEGIN:VTIMEZONE
TZID:UTC
BEGIN:STANDARD
DTSTART:19700101T000000
TZOFFSETFROM:+0000
TZOFFSETTO:+0000
TZNAME:UTC
END:STANDARD
END:VTIMEZONE
BEGIN:VEVENT
TZ:+00
ORGANIZER;CN=Yuning Xu:MAILTO:yxu@amchamchina.org
UID:45192-1776654540@https://amcham.glueup.cn
DTSTAMP:20260420T030900Z
DTSTART:20241018T050000Z
DTEND:20241018T093000Z
SUMMARY:[In-Person, EN] Social Impact Initiative - McDonald's Zero-Carbon Restaurant and Shougang Park Visit
DESCRIPTION:[In-Person, EN] Social Impact Initiative - McDonald's Zero-Carbon Restaurant and Shougang Park Visit by AmCham China\n\nOct 18, 2024 (1:00 PM - 5:30 PM)(GMT+8)\n\nFor more information, click here: https://amcham.glueup.cn/my/events/45192
LOCATION:McDonald's (Shougang Park Branch), Shijingshan Road No.68, Shijingshan District, Beijing - 麦当劳北京首钢园群明湖得来速店（北京市石景山区石景山路68号首钢园制氧创新中心） Beijing - China
BEGIN:VALARM
TRIGGER:-PT48H
REPEAT:4
DURATION:PT30M
ACTION:DISPLAY
END:VALARM
END:VEVENT
END:VCALENDAR