BEGIN:VCALENDAR
VERSION:2.0
PRODID:GlueUp
CALSCALE:GREGORIAN
BEGIN:VTIMEZONE
TZID:UTC
BEGIN:STANDARD
DTSTART:19700101T000000
TZOFFSETFROM:+0000
TZOFFSETTO:+0000
TZNAME:UTC
END:STANDARD
END:VTIMEZONE
BEGIN:VEVENT
TZ:+00
ORGANIZER;CN=Melody Li:MAILTO:mli@amchamchina.org
UID:45163-1776646593@https://amcham.glueup.cn
DTSTAMP:20260420T005633Z
DTSTART:20241206T063000Z
DTEND:20241206T103000Z
SUMMARY:[Shenyang, EN &CN] Sound of Friendship: US-China Singing and Dancing Celebration
DESCRIPTION:[Shenyang, EN &CN] Sound of Friendship: US-China Singing and Dancing Celebration by AmCham China\n\nDec 6, 2024 (2:30 PM - 6:30 PM)(GMT+8)\n\nFor more information, click here: https://amcham.glueup.cn/my/events/45163
LOCATION:GRAND HYATT SHENYANG - No.288A,Qingnian Street Heping District ,Shenyang - 110004 Shenyang - Liaoning - China
BEGIN:VALARM
TRIGGER:-PT48H
REPEAT:4
DURATION:PT30M
ACTION:DISPLAY
END:VALARM
END:VEVENT
END:VCALENDAR