BEGIN:VCALENDAR
VERSION:2.0
PRODID:GlueUp
CALSCALE:GREGORIAN
BEGIN:VTIMEZONE
TZID:UTC
BEGIN:STANDARD
DTSTART:19700101T000000
TZOFFSETFROM:+0000
TZOFFSETTO:+0000
TZNAME:UTC
END:STANDARD
END:VTIMEZONE
BEGIN:VEVENT
TZ:+00
ORGANIZER;CN=Dandan Li:MAILTO:dli@amchamchina.org
UID:45140-1776653728@https://amcham.glueup.cn
DTSTAMP:20260420T025528Z
DTSTART:20241010T103000Z
DTEND:20241010T120000Z
SUMMARY:[Sold Out] Nat Geo Exhibit & Dinner Dialogue Series 2: Women - Born to Shine
DESCRIPTION:[Sold Out] Nat Geo Exhibit & Dinner Dialogue Series 2: Women - Born to Shine by AmCham China\n\nOct 10, 2024 (6:30 PM - 8:00 PM)(GMT+8)\n\nFor more information, click here: https://amcham.glueup.cn/my/events/45140
LOCATION:The Box B一层茑屋咖啡 - 朝阳区朝阳门外大街10号昆泰大厦The Box朝外B座 Beijing - China
BEGIN:VALARM
TRIGGER:-PT48H
REPEAT:4
DURATION:PT30M
ACTION:DISPLAY
END:VALARM
END:VEVENT
END:VCALENDAR