BEGIN:VCALENDAR
VERSION:2.0
PRODID:GlueUp
CALSCALE:GREGORIAN
BEGIN:VTIMEZONE
TZID:UTC
BEGIN:STANDARD
DTSTART:19700101T000000
TZOFFSETFROM:+0000
TZOFFSETTO:+0000
TZNAME:UTC
END:STANDARD
END:VTIMEZONE
BEGIN:VEVENT
TZ:+00
ORGANIZER;CN=AmCham China:MAILTO:amcham@amchamchina.org
UID:44926-1776667106@https://amcham.glueup.cn
DTSTAMP:20260420T063826Z
DTSTART:20240904T100000Z
DTEND:20240904T120000Z
SUMMARY:[In-Person, EN] Commercial Issues Working Group Leadership Cocktail Reception
DESCRIPTION:[In-Person, EN] Commercial Issues Working Group Leadership Cocktail Reception by AmCham China\n\nSep 4, 2024 (6:00 PM - 8:00 PM)(GMT+8)\n\nFor more information, click here: https://amcham.glueup.cn/my/events/44926
LOCATION:China World Hotel - No 1 Jianguomenwai Avenue - Beijing 100004 China Beijing - Chaoyang District - China
BEGIN:VALARM
TRIGGER:-PT48H
REPEAT:4
DURATION:PT30M
ACTION:DISPLAY
END:VALARM
END:VEVENT
END:VCALENDAR