BEGIN:VCALENDAR
VERSION:2.0
PRODID:GlueUp
CALSCALE:GREGORIAN
BEGIN:VTIMEZONE
TZID:UTC
BEGIN:STANDARD
DTSTART:19700101T000000
TZOFFSETFROM:+0000
TZOFFSETTO:+0000
TZNAME:UTC
END:STANDARD
END:VTIMEZONE
BEGIN:VEVENT
TZ:+00
ORGANIZER;CN=Alice Xin:MAILTO:axin@amchamchina.org
UID:44722-1776667106@https://amcham.glueup.cn
DTSTAMP:20260420T063826Z
DTSTART:20240809T010000Z
DTEND:20240809T080000Z
SUMMARY:[Cancelled :Online Training, CN] Enhancing Emotional Intelligence Training for Professionals in the Workplace
DESCRIPTION:[Cancelled :Online Training, CN] Enhancing Emotional Intelligence Training for Professionals in the Workplace by AmCham China\n\nAug 9, 2024 (9:00 AM - 4:00 PM)(GMT+8)\n\nFor more information, click here: https://amcham.glueup.cn/my/events/44722
LOCATION:
BEGIN:VALARM
TRIGGER:-PT48H
REPEAT:4
DURATION:PT30M
ACTION:DISPLAY
END:VALARM
END:VEVENT
END:VCALENDAR