BEGIN:VCALENDAR
VERSION:2.0
PRODID:GlueUp
CALSCALE:GREGORIAN
BEGIN:VTIMEZONE
TZID:UTC
BEGIN:STANDARD
DTSTART:19700101T000000
TZOFFSETFROM:+0000
TZOFFSETTO:+0000
TZNAME:UTC
END:STANDARD
END:VTIMEZONE
BEGIN:VEVENT
TZ:+00
ORGANIZER;CN=Wei Wei:MAILTO:wwei@amchamchina.org
UID:44718-1776690892@https://amcham.glueup.cn
DTSTAMP:20260420T131452Z
DTSTART:20240907T023000Z
DTEND:20240907T120000Z
SUMMARY:SOLD OUT [Chengdu, CN&EN] Charging the Palate: A Tasting Tour of Distillery & Brewery
DESCRIPTION:SOLD OUT [Chengdu, CN&EN] Charging the Palate: A Tasting Tour of Distillery & Brewery by AmCham China\n\nSep 7, 2024 (10:30 AM - 8:00 PM)(GMT+8)\n\nFor more information, click here: https://amcham.glueup.cn/my/events/44718
LOCATION:NIO House (Chengdu Tianfu Art Park) 蔚来中心 (成都天府艺术公园) - 1/F - Building 15 - NO. 111 3rd Ring Rd - Jinniu District - Chengdu - 成都市金牛区北三环路一段111号15栋1层 Chengdu - Sichuan - China
BEGIN:VALARM
TRIGGER:-PT48H
REPEAT:4
DURATION:PT30M
ACTION:DISPLAY
END:VALARM
END:VEVENT
END:VCALENDAR