BEGIN:VCALENDAR
VERSION:2.0
PRODID:GlueUp
CALSCALE:GREGORIAN
BEGIN:VTIMEZONE
TZID:UTC
BEGIN:STANDARD
DTSTART:19700101T000000
TZOFFSETFROM:+0000
TZOFFSETTO:+0000
TZNAME:UTC
END:STANDARD
END:VTIMEZONE
BEGIN:VEVENT
TZ:+00
ORGANIZER;CN=Linda Cheng:MAILTO:lcheng@amchamchina.org
UID:44531-1776677646@https://amcham.glueup.cn
DTSTAMP:20260420T093406Z
DTSTART:20240722T233000Z
DTEND:20240723T043000Z
SUMMARY:[Hybrid, EN] | Breakfast Briefing on Supply Chain and Logistics Challenges in China  & Throne Tianjin Logistics Center Tour
DESCRIPTION:[Hybrid, EN] | Breakfast Briefing on Supply Chain and Logistics Challenges in China  & Throne Tianjin Logistics Center Tour by AmCham China\n\nJul 23, 2024 (7:30 AM - 12:30 PM)(GMT+8)\n\nFor more information, click here: https://amcham.glueup.cn/my/events/44531
LOCATION:Jing+Yu meeting room, 3 F of The St. Regis Tianjin - No 158 - Zhang Zi Zhong Road - Heping District - Tianjin - 天津市和平区张自忠路158号 Tianjin - China
BEGIN:VALARM
TRIGGER:-PT48H
REPEAT:4
DURATION:PT30M
ACTION:DISPLAY
END:VALARM
END:VEVENT
END:VCALENDAR