BEGIN:VCALENDAR
VERSION:2.0
PRODID:GlueUp
CALSCALE:GREGORIAN
BEGIN:VTIMEZONE
TZID:UTC
BEGIN:STANDARD
DTSTART:19700101T000000
TZOFFSETFROM:+0000
TZOFFSETTO:+0000
TZNAME:UTC
END:STANDARD
END:VTIMEZONE
BEGIN:VEVENT
TZ:+00
ORGANIZER;CN=Wei Wei:MAILTO:wwei@amchamchina.org
UID:44490-1776677847@https://amcham.glueup.cn
DTSTAMP:20260420T093727Z
DTSTART:20240726T053000Z
DTEND:20240726T080000Z
SUMMARY:[Chengdu, CN] Tax Policy Analysis and Practice Sharing on Dynamic Tax Regulation Management
DESCRIPTION:[Chengdu, CN] Tax Policy Analysis and Practice Sharing on Dynamic Tax Regulation Management by AmCham China\n\nJul 26, 2024 (1:30 PM - 4:00 PM)(GMT+8)\n\nFor more information, click here: https://amcham.glueup.cn/my/events/44490
LOCATION:HSBC Pinnacle - 39/F - Tower 1 - IFS - Hongxing Road - Jinjiang District - Chengdu - 成都市锦江区红星路国际金融中心1座39层 Chengdu - Sichuan - China
BEGIN:VALARM
TRIGGER:-PT48H
REPEAT:4
DURATION:PT30M
ACTION:DISPLAY
END:VALARM
END:VEVENT
END:VCALENDAR