BEGIN:VCALENDAR
VERSION:2.0
PRODID:GlueUp
CALSCALE:GREGORIAN
BEGIN:VTIMEZONE
TZID:UTC
BEGIN:STANDARD
DTSTART:19700101T000000
TZOFFSETFROM:+0000
TZOFFSETTO:+0000
TZNAME:UTC
END:STANDARD
END:VTIMEZONE
BEGIN:VEVENT
TZ:+00
ORGANIZER;CN=Yoyo Wu:MAILTO:ywu@amchamchina.org
UID:44247-1776684069@https://amcham.glueup.cn
DTSTAMP:20260420T112109Z
DTSTART:20240628T040000Z
DTEND:20240628T060000Z
SUMMARY:[In-Person, CN] Knight Frank's 2024 Wealth Report & London Residential Property Investment Opportunities [M2M Event]
DESCRIPTION:AmCham China发布活动[In-Person, CN] Knight Frank's 2024 Wealth Report & London Residential Property Investment Opportunities [M2M Event]\n\n2024年06月28日（中午 12:00 - 下午 2:00）(GMT+8)\n\n更多信息，访问https://amcham.glueup.cn/my/events/44247
LOCATION:WeWork（三里屯盈科中心） - 中国北京市朝阳区工体北路甲2号 - 盈科中心5号门5层WeWork 5B会议室
BEGIN:VALARM
TRIGGER:-PT48H
REPEAT:4
DURATION:PT30M
ACTION:DISPLAY
END:VALARM
END:VEVENT
END:VCALENDAR