BEGIN:VCALENDAR
VERSION:2.0
PRODID:GlueUp
CALSCALE:GREGORIAN
BEGIN:VTIMEZONE
TZID:UTC
BEGIN:STANDARD
DTSTART:19700101T000000
TZOFFSETFROM:+0000
TZOFFSETTO:+0000
TZNAME:UTC
END:STANDARD
END:VTIMEZONE
BEGIN:VEVENT
TZ:+00
ORGANIZER;CN=Christine Chen:MAILTO:christine.chen@amchamchina.org
UID:44062-1776684145@https://amcham.glueup.cn
DTSTAMP:20260420T112225Z
DTSTART:20240618T060000Z
DTEND:20240618T090000Z
SUMMARY:[Tianjin, CN] Debriefing on “Five-Star” Card Application and Policies for Foreigners Entering China
DESCRIPTION:[Tianjin, CN] Debriefing on “Five-Star” Card Application and Policies for Foreigners Entering China by AmCham China\n\nJun 18, 2024 (2:00 PM - 5:00 PM)(GMT+8)\n\nFor more information, click here: https://amcham.glueup.cn/my/events/44062
LOCATION:Studio 2, 2 F of Renaissance Tianjin Lakeview Hotel 万丽天津宾馆2层会议室2 - No. 16 - Binshui Road 138 - Hexi District - Tianjin - 天津市河西区宾水道16号 Tianjin - China
BEGIN:VALARM
TRIGGER:-PT48H
REPEAT:4
DURATION:PT30M
ACTION:DISPLAY
END:VALARM
END:VEVENT
END:VCALENDAR