BEGIN:VCALENDAR
VERSION:2.0
PRODID:GlueUp
CALSCALE:GREGORIAN
BEGIN:VTIMEZONE
TZID:UTC
BEGIN:STANDARD
DTSTART:19700101T000000
TZOFFSETFROM:+0000
TZOFFSETTO:+0000
TZNAME:UTC
END:STANDARD
END:VTIMEZONE
BEGIN:VEVENT
TZ:+00
ORGANIZER;CN=Melody Wen:MAILTO:mwen@amchamchina.org
UID:44024-1776850143@https://amcham.glueup.cn
DTSTAMP:20260422T092903Z
DTSTART:20240910T010000Z
DTEND:20240910T090000Z
SUMMARY:【Cancelled】[In-Person Training, CN] Effective Communication in Business English
DESCRIPTION:【Cancelled】[In-Person Training, CN] Effective Communication in Business English by AmCham China\n\nSep 10, 2024 (9:00 AM - 5:00 PM)(GMT+8)\n\nFor more information, click here: https://amcham.glueup.cn/my/events/44024
LOCATION:Swedcham Beijing Office - Room 230 - No. 20 - Xinyuanlixi - JinShangYuan - Chaoyang District - Beijing - 北京市朝阳区新源里西20号金尚源2层230 - 中国瑞典商会北京办公室 Beijing - Chaoyang District - China
BEGIN:VALARM
TRIGGER:-PT48H
REPEAT:4
DURATION:PT30M
ACTION:DISPLAY
END:VALARM
END:VEVENT
END:VCALENDAR