BEGIN:VCALENDAR
VERSION:2.0
PRODID:GlueUp
CALSCALE:GREGORIAN
BEGIN:VTIMEZONE
TZID:UTC
BEGIN:STANDARD
DTSTART:19700101T000000
TZOFFSETFROM:+0000
TZOFFSETTO:+0000
TZNAME:UTC
END:STANDARD
END:VTIMEZONE
BEGIN:VEVENT
TZ:+00
ORGANIZER;CN=Yuning Xu:MAILTO:yxu@amchamchina.org
UID:43902-1776684071@https://amcham.glueup.cn
DTSTAMP:20260420T112111Z
DTSTART:20240613T063000Z
DTEND:20240613T083000Z
SUMMARY:[In-Person, CN] Social Impact Initiative - Roundtable Discussion with China Center for Information Industry Development
DESCRIPTION:AmCham China发布活动[In-Person, CN] Social Impact Initiative - Roundtable Discussion with China Center for Information Industry Development\n\n2024年06月13日（下午 2:30 - 下午 4:30）(GMT+8)\n\n更多信息，访问https://amcham.glueup.cn/my/events/43902
LOCATION:赛迪大厦二层鼎新厅 - 中国北京北京市海淀区紫竹院路66号
BEGIN:VALARM
TRIGGER:-PT48H
REPEAT:4
DURATION:PT30M
ACTION:DISPLAY
END:VALARM
END:VEVENT
END:VCALENDAR