BEGIN:VCALENDAR
VERSION:2.0
PRODID:GlueUp
CALSCALE:GREGORIAN
BEGIN:VTIMEZONE
TZID:UTC
BEGIN:STANDARD
DTSTART:19700101T000000
TZOFFSETFROM:+0000
TZOFFSETTO:+0000
TZNAME:UTC
END:STANDARD
END:VTIMEZONE
BEGIN:VEVENT
TZ:+00
ORGANIZER;CN=Linda Cheng:MAILTO:lcheng@amchamchina.org
UID:43878-1776689226@https://amcham.glueup.cn
DTSTAMP:20260420T124706Z
DTSTART:20240524T073000Z
DTEND:20240524T093000Z
SUMMARY:[Tianjin, CN] Workshop and Networking Dinner—Caring for Family Mental Health
DESCRIPTION:[Tianjin, CN] Workshop and Networking Dinner—Caring for Family Mental Health by AmCham China\n\nMay 24, 2024 (3:30 PM - 5:30 PM)(GMT+8)\n\nFor more information, click here: https://amcham.glueup.cn/my/events/43878
LOCATION:天津美津宜和妇儿医院 - 天津市南开区水上公园东路21号
BEGIN:VALARM
TRIGGER:-PT48H
REPEAT:4
DURATION:PT30M
ACTION:DISPLAY
END:VALARM
END:VEVENT
END:VCALENDAR