BEGIN:VCALENDAR
VERSION:2.0
PRODID:GlueUp
CALSCALE:GREGORIAN
BEGIN:VTIMEZONE
TZID:UTC
BEGIN:STANDARD
DTSTART:19700101T000000
TZOFFSETFROM:+0000
TZOFFSETTO:+0000
TZNAME:UTC
END:STANDARD
END:VTIMEZONE
BEGIN:VEVENT
TZ:+00
ORGANIZER;CN=Melody Li:MAILTO:mli@amchamchina.org
UID:43857-1776696145@https://amcham.glueup.cn
DTSTAMP:20260420T144225Z
DTSTART:20240524T060000Z
DTEND:20240524T080000Z
SUMMARY:[Dalian, CN] Solutions for Chinese enterprises facing accusations of intellectual property infringement when trading with the USA
DESCRIPTION:[Dalian, CN] Solutions for Chinese enterprises facing accusations of intellectual property infringement when trading with the USA by AmCham China\n\nMay 24, 2024 (2:00 PM - 4:00 PM)(GMT+8)\n\nFor more information, click here: https://amcham.glueup.cn/my/events/43857
LOCATION:1st Floor, Building No.11, Ascendas IT Park, Dalian - Dalian - Liaoning Province - China
BEGIN:VALARM
TRIGGER:-PT48H
REPEAT:4
DURATION:PT30M
ACTION:DISPLAY
END:VALARM
END:VEVENT
END:VCALENDAR