BEGIN:VCALENDAR
VERSION:2.0
PRODID:GlueUp
CALSCALE:GREGORIAN
BEGIN:VTIMEZONE
TZID:UTC
BEGIN:STANDARD
DTSTART:19700101T000000
TZOFFSETFROM:+0000
TZOFFSETTO:+0000
TZNAME:UTC
END:STANDARD
END:VTIMEZONE
BEGIN:VEVENT
TZ:+00
ORGANIZER;CN=Melody Wen:MAILTO:mwen@amchamchina.org
UID:43838-1776689225@https://amcham.glueup.cn
DTSTAMP:20260420T124705Z
DTSTART:20240521T050000Z
DTEND:20240521T083000Z
SUMMARY:[Hybrid, CN] HR Leader Dialogue: AI-Driven Innovation and Transformation in HR Business Processes
DESCRIPTION:[Hybrid, CN] HR Leader Dialogue: AI-Driven Innovation and Transformation in HR Business Processes by AmCham China\n\nMay 21, 2024 (1:00 PM - 4:30 PM)(GMT+8)\n\nFor more information, click here: https://amcham.glueup.cn/my/events/43838
LOCATION:微软大厦 - 海淀区善缘街微软大厦2号楼2层（颐和园会议室） Beijing - China
BEGIN:VALARM
TRIGGER:-PT48H
REPEAT:4
DURATION:PT30M
ACTION:DISPLAY
END:VALARM
END:VEVENT
END:VCALENDAR