BEGIN:VCALENDAR
VERSION:2.0
PRODID:GlueUp
CALSCALE:GREGORIAN
BEGIN:VTIMEZONE
TZID:UTC
BEGIN:STANDARD
DTSTART:19700101T000000
TZOFFSETFROM:+0000
TZOFFSETTO:+0000
TZNAME:UTC
END:STANDARD
END:VTIMEZONE
BEGIN:VEVENT
TZ:+00
ORGANIZER;CN=Wei Wei:MAILTO:wwei@amchamchina.org
UID:43833-1776689201@https://amcham.glueup.cn
DTSTAMP:20260420T124641Z
DTSTART:20240530T100000Z
DTEND:20240530T123000Z
SUMMARY:[Chengdu] AmCham China 2024 Dialogue with Sichuan Provincial Government and Reception
DESCRIPTION:[Chengdu] AmCham China 2024 Dialogue with Sichuan Provincial Government and Reception by AmCham China\n\nMay 30, 2024 (6:00 PM - 8:30 PM)(GMT+8)\n\nFor more information, click here: https://amcham.glueup.cn/my/events/43833
LOCATION:Jinjiang Hotel 锦江宾馆 - 四川省成都市锦江区人民南路二段80号 - No. 80 - Section 2 - Renmin Road South - Jinjiang District - Chengdu Chengdu - Sichuan - China
BEGIN:VALARM
TRIGGER:-PT48H
REPEAT:4
DURATION:PT30M
ACTION:DISPLAY
END:VALARM
END:VEVENT
END:VCALENDAR