BEGIN:VCALENDAR
VERSION:2.0
PRODID:GlueUp
CALSCALE:GREGORIAN
BEGIN:VTIMEZONE
TZID:UTC
BEGIN:STANDARD
DTSTART:19700101T000000
TZOFFSETFROM:+0000
TZOFFSETTO:+0000
TZNAME:UTC
END:STANDARD
END:VTIMEZONE
BEGIN:VEVENT
TZ:+00
ORGANIZER;CN=Melody Wen:MAILTO:mwen@amchamchina.org
UID:43739-1776695114@https://amcham.glueup.cn
DTSTAMP:20260420T142514Z
DTSTART:20240517T010000Z
DTEND:20240517T080000Z
SUMMARY:[Online Training, CN] Enterprise Video Account: 2024 New Features Production, Operation, and Promotion
DESCRIPTION:[Online Training, CN] Enterprise Video Account: 2024 New Features Production, Operation, and Promotion by AmCham China\n\nMay 17, 2024 (9:00 AM - 4:00 PM)(GMT+8)\n\nFor more information, click here: https://amcham.glueup.cn/my/events/43739
LOCATION:
BEGIN:VALARM
TRIGGER:-PT48H
REPEAT:4
DURATION:PT30M
ACTION:DISPLAY
END:VALARM
END:VEVENT
END:VCALENDAR