BEGIN:VCALENDAR
VERSION:2.0
PRODID:GlueUp
CALSCALE:GREGORIAN
BEGIN:VTIMEZONE
TZID:UTC
BEGIN:STANDARD
DTSTART:19700101T000000
TZOFFSETFROM:+0000
TZOFFSETTO:+0000
TZNAME:UTC
END:STANDARD
END:VTIMEZONE
BEGIN:VEVENT
TZ:+00
ORGANIZER;CN=Lina Wang:MAILTO:lwang@amchamchina.org
UID:43662-1776696143@https://amcham.glueup.cn
DTSTAMP:20260420T144223Z
DTSTART:20240423T060000Z
DTEND:20240423T083000Z
SUMMARY:[Wuhan, CN] Seminar: 2024 Wuhan Overseas Intellectual Property Layout Protection
DESCRIPTION:[Wuhan, CN] Seminar: 2024 Wuhan Overseas Intellectual Property Layout Protection by AmCham China\n\nApr 23, 2024 (2:00 PM - 4:30 PM)(GMT+8)\n\nFor more information, click here: https://amcham.glueup.cn/my/events/43662
LOCATION:光谷资本大厦3楼培训中心（武汉知识产权审判庭旁） - 湖北省武汉市洪山区关山光谷广场(民族大道东) 武汉 - 湖北 - China
BEGIN:VALARM
TRIGGER:-PT48H
REPEAT:4
DURATION:PT30M
ACTION:DISPLAY
END:VALARM
END:VEVENT
END:VCALENDAR