BEGIN:VCALENDAR
VERSION:2.0
PRODID:GlueUp
CALSCALE:GREGORIAN
BEGIN:VTIMEZONE
TZID:UTC
BEGIN:STANDARD
DTSTART:19700101T000000
TZOFFSETFROM:+0000
TZOFFSETTO:+0000
TZNAME:UTC
END:STANDARD
END:VTIMEZONE
BEGIN:VEVENT
TZ:+00
ORGANIZER;CN=Christine Chen:MAILTO:christine.chen@amchamchina.org
UID:43656-1776696143@https://amcham.glueup.cn
DTSTAMP:20260420T144223Z
DTSTART:20240426T060000Z
DTEND:20240426T090000Z
SUMMARY:[Tianjin, EN] Discover the Six Types of Working Genius: Enhancing Team Dynamics and Achieving Success
DESCRIPTION:[Tianjin, EN] Discover the Six Types of Working Genius: Enhancing Team Dynamics and Achieving Success by AmCham China\n\nApr 26, 2024 (2:00 PM - 5:00 PM)(GMT+8)\n\nFor more information, click here: https://amcham.glueup.cn/my/events/43656
LOCATION:天津市和平区南京路189号津汇广场2座29层 大会议室 AmCham China Tianjin Meeting Room - 29F Exchange Tower 2， No. 189 Nanjing Road - Heping District Tianjin - China
BEGIN:VALARM
TRIGGER:-PT48H
REPEAT:4
DURATION:PT30M
ACTION:DISPLAY
END:VALARM
END:VEVENT
END:VCALENDAR