BEGIN:VCALENDAR
VERSION:2.0
PRODID:GlueUp
CALSCALE:GREGORIAN
BEGIN:VTIMEZONE
TZID:UTC
BEGIN:STANDARD
DTSTART:19700101T000000
TZOFFSETFROM:+0000
TZOFFSETTO:+0000
TZNAME:UTC
END:STANDARD
END:VTIMEZONE
BEGIN:VEVENT
TZ:+00
ORGANIZER;CN=Alice Xin:MAILTO:axin@amchamchina.org
UID:43527-1776702379@https://amcham.glueup.cn
DTSTAMP:20260420T162619Z
DTSTART:20240413T003000Z
DTEND:20240413T023000Z
SUMMARY:[Shenyang, CN] Breakfast Briefing on the Relationship between Organizational Health and Employee Engagement in Enterprises
DESCRIPTION:[Shenyang, CN] Breakfast Briefing on the Relationship between Organizational Health and Employee Engagement in Enterprises by AmCham China\n\nApr 13, 2024 (8:30 AM - 10:30 AM)(GMT+8)\n\nFor more information, click here: https://amcham.glueup.cn/my/events/43527
LOCATION:Conrad Hotel Shenyang - 沈阳市沈河区青年大街1-1号 沈阳康莱德酒店 Shenyang - Liaoning Province - China
BEGIN:VALARM
TRIGGER:-PT48H
REPEAT:4
DURATION:PT30M
ACTION:DISPLAY
END:VALARM
END:VEVENT
END:VCALENDAR