BEGIN:VCALENDAR
VERSION:2.0
PRODID:GlueUp
CALSCALE:GREGORIAN
BEGIN:VTIMEZONE
TZID:UTC
BEGIN:STANDARD
DTSTART:19700101T000000
TZOFFSETFROM:+0000
TZOFFSETTO:+0000
TZNAME:UTC
END:STANDARD
END:VTIMEZONE
BEGIN:VEVENT
TZ:+00
ORGANIZER;CN=Melody Li:MAILTO:mli@amchamchina.org
UID:43401-1776696145@https://amcham.glueup.cn
DTSTAMP:20260420T144225Z
DTSTART:20240413T060000Z
DTEND:20240413T074500Z
SUMMARY:[Shenyang, CN] Women Professionals Afternoon Tea - Shaping your professional image by mastering dressing skills
DESCRIPTION:[Shenyang, CN] Women Professionals Afternoon Tea - Shaping your professional image by mastering dressing skills by AmCham China\n\nApr 13, 2024 (2:00 PM - 3:45 PM)(GMT+8)\n\nFor more information, click here: https://amcham.glueup.cn/my/events/43401
LOCATION:沈阳万象城Lafayette 148店铺 - 和平区青年大街288号L204 沈阳 - 辽宁 - China
BEGIN:VALARM
TRIGGER:-PT48H
REPEAT:4
DURATION:PT30M
ACTION:DISPLAY
END:VALARM
END:VEVENT
END:VCALENDAR