BEGIN:VCALENDAR
VERSION:2.0
PRODID:GlueUp
CALSCALE:GREGORIAN
BEGIN:VTIMEZONE
TZID:UTC
BEGIN:STANDARD
DTSTART:19700101T000000
TZOFFSETFROM:+0000
TZOFFSETTO:+0000
TZNAME:UTC
END:STANDARD
END:VTIMEZONE
BEGIN:VEVENT
TZ:+00
ORGANIZER;CN=AmCham China:MAILTO:amcham@amchamchina.org
UID:43300-1776684069@https://amcham.glueup.cn
DTSTAMP:20260420T112109Z
DTSTART:20240620T010000Z
DTEND:20240620T080000Z
SUMMARY:[Cancelled: Online Training, CN] Reducing Costs and Increasing Efficiency - A Data-Driven Approach
DESCRIPTION:[Cancelled: Online Training, CN] Reducing Costs and Increasing Efficiency - A Data-Driven Approach by AmCham China\n\nJun 20, 2024 (9:00 AM - 4:00 PM)(GMT+8)\n\nFor more information, click here: https://amcham.glueup.cn/my/events/43300
LOCATION:
BEGIN:VALARM
TRIGGER:-PT48H
REPEAT:4
DURATION:PT30M
ACTION:DISPLAY
END:VALARM
END:VEVENT
END:VCALENDAR