BEGIN:VCALENDAR
VERSION:2.0
PRODID:GlueUp
CALSCALE:GREGORIAN
BEGIN:VTIMEZONE
TZID:UTC
BEGIN:STANDARD
DTSTART:19700101T000000
TZOFFSETFROM:+0000
TZOFFSETTO:+0000
TZNAME:UTC
END:STANDARD
END:VTIMEZONE
BEGIN:VEVENT
TZ:+00
ORGANIZER;CN=Cynthia Zhai:MAILTO:czhai@amchamchina.org
UID:43175-1776696144@https://amcham.glueup.cn
DTSTAMP:20260420T144224Z
DTSTART:20240402T070000Z
DTEND:20240402T090000Z
SUMMARY:In-Person (CN) | Briefing from China Certification Accreditation Association
DESCRIPTION:In-Person (CN) | Briefing from China Certification Accreditation Association by AmCham China\n\nApr 2, 2024 (3:00 PM - 5:00 PM)(GMT+8)\n\nFor more information, click here: https://amcham.glueup.cn/my/events/43175
LOCATION:WeWork, Pacific Century Place - 5F - Gate 5 - Pacific Century Place - 2A Workers' Stadium North Road - 工体北路甲2号，盈科中心5号门5层WeWork Beijing - Chaoyang District - China
BEGIN:VALARM
TRIGGER:-PT48H
REPEAT:4
DURATION:PT30M
ACTION:DISPLAY
END:VALARM
END:VEVENT
END:VCALENDAR