BEGIN:VCALENDAR
VERSION:2.0
PRODID:GlueUp
CALSCALE:GREGORIAN
BEGIN:VTIMEZONE
TZID:UTC
BEGIN:STANDARD
DTSTART:19700101T000000
TZOFFSETFROM:+0000
TZOFFSETTO:+0000
TZNAME:UTC
END:STANDARD
END:VTIMEZONE
BEGIN:VEVENT
TZ:+00
ORGANIZER;CN=Wei Wei:MAILTO:wwei@amchamchina.org
UID:43048-1776707841@https://amcham.glueup.cn
DTSTAMP:20260420T175721Z
DTSTART:20240306T040000Z
DTEND:20240306T060000Z
SUMMARY:Chengdu | Dine with AmCham China BOGs Series: Luncheon with Su Cheng Harris-Simpson
DESCRIPTION:Chengdu | Dine with AmCham China BOGs Series: Luncheon with Su Cheng Harris-Simpson by AmCham China\n\nMar 6, 2024 (12:00 PM - 2:00 PM)(GMT+8)\n\nFor more information, click here: https://amcham.glueup.cn/my/events/43048
LOCATION:悦百味·品质川菜 YUE RESTAURANT - Building 4 - Chengdu ICD - NO. 577 Dongda Rd - Jinjiang District - Chengdu - 610000 - 成都市锦江区东大路577号环球贸易中心古雅坡路4栋 Chengdu - Sichuan
BEGIN:VALARM
TRIGGER:-PT48H
REPEAT:4
DURATION:PT30M
ACTION:DISPLAY
END:VALARM
END:VEVENT
END:VCALENDAR