BEGIN:VCALENDAR
VERSION:2.0
PRODID:GlueUp
CALSCALE:GREGORIAN
BEGIN:VTIMEZONE
TZID:UTC
BEGIN:STANDARD
DTSTART:19700101T000000
TZOFFSETFROM:+0000
TZOFFSETTO:+0000
TZNAME:UTC
END:STANDARD
END:VTIMEZONE
BEGIN:VEVENT
TZ:+00
ORGANIZER;CN=Melody Wen:MAILTO:mwen@amchamchina.org
UID:43002-1776702380@https://amcham.glueup.cn
DTSTAMP:20260420T162620Z
DTSTART:20240321T010000Z
DTEND:20240322T090000Z
SUMMARY:[Cancelled] In-Person Training (CN) | Data-Driven Systematic Problem Solving (2 Days)
DESCRIPTION:[Cancelled] In-Person Training (CN) | Data-Driven Systematic Problem Solving (2 Days) by AmCham China\n\nMar 21 & 22, 2024(GMT+8)\n\nFor more information, click here: https://amcham.glueup.cn/my/events/43002
LOCATION:MFG Office - Floor 8th - West Tower - Prosper Center - No.5 Guang Hua Road - Chao Yang District - Beijing - 北京朝阳区光华路5号世纪财富中心西塔8层 Beijing - China
BEGIN:VALARM
TRIGGER:-PT48H
REPEAT:4
DURATION:PT30M
ACTION:DISPLAY
END:VALARM
END:VEVENT
END:VCALENDAR