BEGIN:VCALENDAR
VERSION:2.0
PRODID:GlueUp
CALSCALE:GREGORIAN
BEGIN:VTIMEZONE
TZID:UTC
BEGIN:STANDARD
DTSTART:19700101T000000
TZOFFSETFROM:+0000
TZOFFSETTO:+0000
TZNAME:UTC
END:STANDARD
END:VTIMEZONE
BEGIN:VEVENT
TZ:+00
ORGANIZER;CN=Linda Cheng:MAILTO:lcheng@amchamchina.org
UID:42995-1776702381@https://amcham.glueup.cn
DTSTAMP:20260420T162621Z
DTSTART:20240306T234500Z
DTEND:20240307T020000Z
SUMMARY:Tianjin | 2024 China Business Climate Survey Report Tianjin Launch -  Monthly Executive Breakfast Briefing
DESCRIPTION:Tianjin | 2024 China Business Climate Survey Report Tianjin Launch -  Monthly Executive Breakfast Briefing by AmCham China\n\nMar 7, 2024 (7:45 AM - 10:00 AM)(GMT+8)\n\nFor more information, click here: https://amcham.glueup.cn/my/events/42995
LOCATION:Four Seasons Hotel Tianjin - Ballroom 1 - 5F of Four Seasons Hotel - Tianjin - No. 138 Chifeng Road - Heping District - Tianjin - 天津市和平区赤峰道138号 四季酒店 5层宴会厅1 Tianjin - China
BEGIN:VALARM
TRIGGER:-PT48H
REPEAT:4
DURATION:PT30M
ACTION:DISPLAY
END:VALARM
END:VEVENT
END:VCALENDAR