BEGIN:VCALENDAR
VERSION:2.0
PRODID:GlueUp
CALSCALE:GREGORIAN
BEGIN:VTIMEZONE
TZID:UTC
BEGIN:STANDARD
DTSTART:19700101T000000
TZOFFSETFROM:+0000
TZOFFSETTO:+0000
TZNAME:UTC
END:STANDARD
END:VTIMEZONE
BEGIN:VEVENT
TZ:+00
ORGANIZER;CN=AmCham China:MAILTO:amcham@amchamchina.org
UID:42986-1776708191@https://amcham.glueup.cn
DTSTAMP:20260420T180311Z
DTSTART:20240314T093000Z
DTEND:20240314T123000Z
SUMMARY:Dalian | 2024 China Business Climate Survey (BCS) Report Northeast Launch and Member Mixer
DESCRIPTION:Dalian | 2024 China Business Climate Survey (BCS) Report Northeast Launch and Member Mixer by AmCham China\n\nMar 14, 2024 (5:30 PM - 8:30 PM)(GMT+8)\n\nFor more information, click here: https://amcham.glueup.cn/my/events/42986
LOCATION:Grand Hyatt Dalian大连君悦酒店 - Room Mansion II & Loft Kitchen - No.33 - C3 Zone - Xinghai Square - Shakekou District - 沙河口区星海广场C3区33号 - Liaoning - China
BEGIN:VALARM
TRIGGER:-PT48H
REPEAT:4
DURATION:PT30M
ACTION:DISPLAY
END:VALARM
END:VEVENT
END:VCALENDAR