BEGIN:VCALENDAR
VERSION:2.0
PRODID:GlueUp
CALSCALE:GREGORIAN
BEGIN:VTIMEZONE
TZID:UTC
BEGIN:STANDARD
DTSTART:19700101T000000
TZOFFSETFROM:+0000
TZOFFSETTO:+0000
TZNAME:UTC
END:STANDARD
END:VTIMEZONE
BEGIN:VEVENT
TZ:+00
ORGANIZER;CN=AmCham China:MAILTO:amcham@amchamchina.org
UID:42957-1776708614@https://amcham.glueup.cn
DTSTAMP:20260420T181014Z
DTSTART:20240323T103000Z
DTEND:20240323T143000Z
SUMMARY:Dalian | 2024 AmCham China Northeast Spring Ball - Hollywood Red Carpet Gala
DESCRIPTION:Dalian | 2024 AmCham China Northeast Spring Ball - Hollywood Red Carpet Gala by AmCham China\n\nMar 23, 2024 (6:30 PM - 10:30 PM)(GMT+8)\n\nFor more information, click here: https://amcham.glueup.cn/my/events/42957
LOCATION:Four Seasons Dalian 大连四季酒店 - 45 Zhuyu Street - Zhongshan District - Dalian - 大连市中山区珠玉街45号 大连 - 辽宁 - China
BEGIN:VALARM
TRIGGER:-PT48H
REPEAT:4
DURATION:PT30M
ACTION:DISPLAY
END:VALARM
END:VEVENT
END:VCALENDAR