BEGIN:VCALENDAR
VERSION:2.0
PRODID:GlueUp
CALSCALE:GREGORIAN
BEGIN:VTIMEZONE
TZID:UTC
BEGIN:STANDARD
DTSTART:19700101T000000
TZOFFSETFROM:+0000
TZOFFSETTO:+0000
TZNAME:UTC
END:STANDARD
END:VTIMEZONE
BEGIN:VEVENT
TZ:+00
ORGANIZER;CN=Wei Wei:MAILTO:wwei@amchamchina.org
UID:42956-1776707880@https://amcham.glueup.cn
DTSTAMP:20260420T175800Z
DTSTART:20240305T060000Z
DTEND:20240305T093000Z
SUMMARY:[SOLD OUT] Chengdu 2024 International Women's Day Seminar | Invest In women: Accelerate Progress
DESCRIPTION:[SOLD OUT] Chengdu 2024 International Women's Day Seminar | Invest In women: Accelerate Progress by AmCham China\n\nMar 5, 2024 (2:00 PM - 5:30 PM)(GMT+8)\n\nFor more information, click here: https://amcham.glueup.cn/my/events/42956
LOCATION:ICC Club managed by TEC - Chengdu Conference Room - ICC Club managed by TEC - 5F - Office Tower 1 - Chengdu ICC - Jinjiang District - Chengdu - 成都市锦江区东大路577号ICC环球贸易广场一号办公楼5楼成都厅 Chengdu - Sichuan - China
BEGIN:VALARM
TRIGGER:-PT48H
REPEAT:4
DURATION:PT30M
ACTION:DISPLAY
END:VALARM
END:VEVENT
END:VCALENDAR