BEGIN:VCALENDAR
VERSION:2.0
PRODID:GlueUp
CALSCALE:GREGORIAN
BEGIN:VTIMEZONE
TZID:UTC
BEGIN:STANDARD
DTSTART:19700101T000000
TZOFFSETFROM:+0000
TZOFFSETTO:+0000
TZNAME:UTC
END:STANDARD
END:VTIMEZONE
BEGIN:VEVENT
TZ:+00
ORGANIZER;CN=Linda Cheng:MAILTO:lcheng@amchamchina.org
UID:42925-1776702437@https://amcham.glueup.cn
DTSTAMP:20260420T162717Z
DTSTART:20240305T060000Z
DTEND:20240305T090000Z
SUMMARY:Tianjin | (New Date) Celebrating International Women’s Day and “Inspire Inclusion” Together
DESCRIPTION:Tianjin | (New Date) Celebrating International Women’s Day and “Inspire Inclusion” Together by AmCham China\n\nMar 5, 2024 (2:00 PM - 5:00 PM)(GMT+8)\n\nFor more information, click here: https://amcham.glueup.cn/my/events/42925
LOCATION:Salon 1+2, 2F of The Ritz-Carlton Tianjin 天津丽思卡尔顿酒店二楼宴会厅1+2 - 中国天津市和平区大沽北路167号 Tianjin - China
BEGIN:VALARM
TRIGGER:-PT48H
REPEAT:4
DURATION:PT30M
ACTION:DISPLAY
END:VALARM
END:VEVENT
END:VCALENDAR