BEGIN:VCALENDAR
VERSION:2.0
PRODID:GlueUp
CALSCALE:GREGORIAN
BEGIN:VTIMEZONE
TZID:UTC
BEGIN:STANDARD
DTSTART:19700101T000000
TZOFFSETFROM:+0000
TZOFFSETTO:+0000
TZNAME:UTC
END:STANDARD
END:VTIMEZONE
BEGIN:VEVENT
TZ:+00
ORGANIZER;CN=Wei Wei:MAILTO:wwei@amchamchina.org
UID:42908-1776708608@https://amcham.glueup.cn
DTSTAMP:20260420T181008Z
DTSTART:20240224T113000Z
DTEND:20240224T133000Z
SUMMARY:Chengdu | Members Exclusive Concert Day: 8 Cellists Lantern Festival Concert
DESCRIPTION:Chengdu | Members Exclusive Concert Day: 8 Cellists Lantern Festival Concert by AmCham China\n\nFeb 24, 2024 (7:30 PM - 9:30 PM)(GMT+8)\n\nFor more information, click here: https://amcham.glueup.cn/my/events/42908
LOCATION:CDHT CPAA Grand Theatre 成都高新中演大剧院·大剧场 - Gate 1 - Building 4 - No. 688 - Tianfu 4th Street - Wuhou District - Chengdu - 成都市武侯区天府四街688号4栋1号门 Chengdu - Sichuan - China
BEGIN:VALARM
TRIGGER:-PT48H
REPEAT:4
DURATION:PT30M
ACTION:DISPLAY
END:VALARM
END:VEVENT
END:VCALENDAR