BEGIN:VCALENDAR
VERSION:2.0
PRODID:GlueUp
CALSCALE:GREGORIAN
BEGIN:VTIMEZONE
TZID:UTC
BEGIN:STANDARD
DTSTART:19700101T000000
TZOFFSETFROM:+0000
TZOFFSETTO:+0000
TZNAME:UTC
END:STANDARD
END:VTIMEZONE
BEGIN:VEVENT
TZ:+00
ORGANIZER;CN=Yin Yu:MAILTO:yyu@amchamchina.org
UID:42760-1776708614@https://amcham.glueup.cn
DTSTAMP:20260420T181014Z
DTSTART:20240202T100000Z
DTEND:20240202T120000Z
SUMMARY:Manufacturing, Sourcing, Supply Chain and Customs Committee Member Happy Hour
DESCRIPTION:Manufacturing, Sourcing, Supply Chain and Customs Committee Member Happy Hour by AmCham China\n\nFeb 2, 2024 (6:00 PM - 8:00 PM)(GMT+8)\n\nFor more information, click here: https://amcham.glueup.cn/my/events/42760
LOCATION:京A Taproom(CBD) - 光华路1号1层 L108、L109 Beijing - China
BEGIN:VALARM
TRIGGER:-PT48H
REPEAT:4
DURATION:PT30M
ACTION:DISPLAY
END:VALARM
END:VEVENT
END:VCALENDAR