BEGIN:VCALENDAR
VERSION:2.0
PRODID:GlueUp
CALSCALE:GREGORIAN
BEGIN:VTIMEZONE
TZID:UTC
BEGIN:STANDARD
DTSTART:19700101T000000
TZOFFSETFROM:+0000
TZOFFSETTO:+0000
TZNAME:UTC
END:STANDARD
END:VTIMEZONE
BEGIN:VEVENT
TZ:+00
ORGANIZER;CN=Linda Cheng:MAILTO:lcheng@amchamchina.org
UID:42751-1776714966@https://amcham.glueup.cn
DTSTAMP:20260420T195606Z
DTSTART:20240130T073000Z
DTEND:20240130T110000Z
SUMMARY:Tianjin | Policy Interpretation— “Green Factory and Enterprise Green Code” Declaration & 2024 Tianjin Manufacturing and Sustainability Committee Kick-off Meeting
DESCRIPTION:Tianjin | Policy Interpretation— “Green Factory and Enterprise Green Code” Declaration & 2024 Tianjin Manufacturing and Sustainability Committee Kick-off Meeting by AmCham China\n\nJan 30, 2024 (3:30 PM - 7:00 PM)(GMT+8)\n\nFor more information, click here: https://amcham.glueup.cn/my/events/42751
LOCATION:Meeting Room 6, 3F of Conrad Tianjin - No 46 - Tianta Road - Nakai District Tianjin - China
BEGIN:VALARM
TRIGGER:-PT48H
REPEAT:4
DURATION:PT30M
ACTION:DISPLAY
END:VALARM
END:VEVENT
END:VCALENDAR