BEGIN:VCALENDAR
VERSION:2.0
PRODID:GlueUp
CALSCALE:GREGORIAN
BEGIN:VTIMEZONE
TZID:UTC
BEGIN:STANDARD
DTSTART:19700101T000000
TZOFFSETFROM:+0000
TZOFFSETTO:+0000
TZNAME:UTC
END:STANDARD
END:VTIMEZONE
BEGIN:VEVENT
TZ:+00
ORGANIZER;CN=Linda Cheng:MAILTO:lcheng@amchamchina.org
UID:42646-1776714967@https://amcham.glueup.cn
DTSTAMP:20260420T195607Z
DTSTART:20240117T234500Z
DTEND:20240118T014500Z
SUMMARY:Hybrid | Embracing AI and Ecosystems and other trends for 2024 – Tianjin Monthly Executive Breakfast Briefing
DESCRIPTION:Hybrid | Embracing AI and Ecosystems and other trends for 2024 – Tianjin Monthly Executive Breakfast Briefing by AmCham China\n\nJan 18, 2024 (7:45 AM - 9:45 AM)(GMT+8)\n\nFor more information, click here: https://amcham.glueup.cn/my/events/42646
LOCATION:天津香格里拉2层小宴会厅 - 天津市河东区海河东路328号 天津 - China
BEGIN:VALARM
TRIGGER:-PT48H
REPEAT:4
DURATION:PT30M
ACTION:DISPLAY
END:VALARM
END:VEVENT
END:VCALENDAR