BEGIN:VCALENDAR
VERSION:2.0
PRODID:GlueUp
CALSCALE:GREGORIAN
BEGIN:VTIMEZONE
TZID:UTC
BEGIN:STANDARD
DTSTART:19700101T000000
TZOFFSETFROM:+0000
TZOFFSETTO:+0000
TZNAME:UTC
END:STANDARD
END:VTIMEZONE
BEGIN:VEVENT
TZ:+00
ORGANIZER;CN=Dandan Li:MAILTO:dli@amchamchina.org
UID:42601-1776714947@https://amcham.glueup.cn
DTSTAMP:20260420T195547Z
DTSTART:20240118T070000Z
DTEND:20240118T090000Z
SUMMARY:In-Person (EN) | 2024 China Economic Outlook: Real Estate Trends and Growth in the Industrial Economy
DESCRIPTION:In-Person (EN) | 2024 China Economic Outlook: Real Estate Trends and Growth in the Industrial Economy by AmCham China\n\nJan 18, 2024 (3:00 PM - 5:00 PM)(GMT+8)\n\nFor more information, click here: https://amcham.glueup.cn/my/events/42601
LOCATION:The Opposite House 北京三里屯瑜舍酒店 - 朝阳区三里屯路11号院太古里北区1号楼LG层 Beijing - China
BEGIN:VALARM
TRIGGER:-PT48H
REPEAT:4
DURATION:PT30M
ACTION:DISPLAY
END:VALARM
END:VEVENT
END:VCALENDAR