BEGIN:VCALENDAR
VERSION:2.0
PRODID:GlueUp
CALSCALE:GREGORIAN
BEGIN:VTIMEZONE
TZID:UTC
BEGIN:STANDARD
DTSTART:19700101T000000
TZOFFSETFROM:+0000
TZOFFSETTO:+0000
TZNAME:UTC
END:STANDARD
END:VTIMEZONE
BEGIN:VEVENT
TZ:+00
ORGANIZER;CN=Linda Cheng:MAILTO:lcheng@amchamchina.org
UID:42597-1776721090@https://amcham.glueup.cn
DTSTAMP:20260420T213810Z
DTSTART:20240130T010000Z
DTEND:20240130T083000Z
SUMMARY:Government Affairs Online Training (CH): Building a Rainbow Bridge for Internal & External Communication between Enterprises and the Government
DESCRIPTION:Government Affairs Online Training (CH): Building a Rainbow Bridge for Internal & External Communication between Enterprises and the Government by AmCham China\n\nJan 30, 2024 (9:00 AM - 4:30 PM)(GMT+8)\n\nFor more information, click here: https://amcham.glueup.cn/my/events/42597
LOCATION:
BEGIN:VALARM
TRIGGER:-PT48H
REPEAT:4
DURATION:PT30M
ACTION:DISPLAY
END:VALARM
END:VEVENT
END:VCALENDAR