BEGIN:VCALENDAR
VERSION:2.0
PRODID:GlueUp
CALSCALE:GREGORIAN
BEGIN:VTIMEZONE
TZID:UTC
BEGIN:STANDARD
DTSTART:19700101T000000
TZOFFSETFROM:+0000
TZOFFSETTO:+0000
TZNAME:UTC
END:STANDARD
END:VTIMEZONE
BEGIN:VEVENT
TZ:+00
ORGANIZER;CN=AmCham China:MAILTO:amcham@amchamchina.org
UID:42587-1776721101@https://amcham.glueup.cn
DTSTAMP:20260420T213821Z
DTSTART:20240119T063000Z
DTEND:20240119T083000Z
SUMMARY:In-Person (CN&EN) | Promoting Green Development Cooperation and Global Governance
DESCRIPTION:In-Person (CN&EN) | Promoting Green Development Cooperation and Global Governance by AmCham China\n\nJan 19, 2024 (2:30 PM - 4:30 PM)(GMT+8)\n\nFor more information, click here: https://amcham.glueup.cn/my/events/42587
LOCATION:3rd Floor, The Twenty-First Century Hotel Beijing - 40 Liangmaqiao Road - Chaoyang District Beijing
BEGIN:VALARM
TRIGGER:-PT48H
REPEAT:4
DURATION:PT30M
ACTION:DISPLAY
END:VALARM
END:VEVENT
END:VCALENDAR