BEGIN:VCALENDAR
VERSION:2.0
PRODID:GlueUp
CALSCALE:GREGORIAN
BEGIN:VTIMEZONE
TZID:UTC
BEGIN:STANDARD
DTSTART:19700101T000000
TZOFFSETFROM:+0000
TZOFFSETTO:+0000
TZNAME:UTC
END:STANDARD
END:VTIMEZONE
BEGIN:VEVENT
TZ:+00
ORGANIZER;CN=Christine Chen:MAILTO:christine.chen@amchamchina.org
UID:42585-1776714948@https://amcham.glueup.cn
DTSTAMP:20260420T195548Z
DTSTART:20240111T060000Z
DTEND:20240111T090000Z
SUMMARY:Webinar (CN) | Navigating Challenges: HR Trends and Insights for International Schools in China
DESCRIPTION:Webinar (CN) | Navigating Challenges: HR Trends and Insights for International Schools in China by AmCham China\n\nJan 11, 2024 (2:00 PM - 5:00 PM)(GMT+8)\n\nFor more information, click here: https://amcham.glueup.cn/my/events/42585
LOCATION:Online Event
BEGIN:VALARM
TRIGGER:-PT48H
REPEAT:4
DURATION:PT30M
ACTION:DISPLAY
END:VALARM
END:VEVENT
END:VCALENDAR