BEGIN:VCALENDAR
VERSION:2.0
PRODID:GlueUp
CALSCALE:GREGORIAN
BEGIN:VTIMEZONE
TZID:UTC
BEGIN:STANDARD
DTSTART:19700101T000000
TZOFFSETFROM:+0000
TZOFFSETTO:+0000
TZNAME:UTC
END:STANDARD
END:VTIMEZONE
BEGIN:VEVENT
TZ:+00
ORGANIZER;CN=Linda Cheng:MAILTO:lcheng@amchamchina.org
UID:42505-1776721137@https://amcham.glueup.cn
DTSTAMP:20260420T213857Z
DTSTART:20240105T051500Z
DTEND:20240105T093000Z
SUMMARY:Tianjin (CN) | 2023 Annual Finance and Taxation Regulation and Updates Review
DESCRIPTION:AmCham China发布活动Tianjin (CN) | 2023 Annual Finance and Taxation Regulation and Updates Review\n\n2024年01月05日（下午 1:15 - 下午 5:30）(GMT+8)\n\n更多信息，访问https://amcham.glueup.cn/my/events/42505
LOCATION:德勤天津会议室 - 中国天津和平区南京路 183 号世纪都会大厦 45 层
BEGIN:VALARM
TRIGGER:-PT48H
REPEAT:4
DURATION:PT30M
ACTION:DISPLAY
END:VALARM
END:VEVENT
END:VCALENDAR