BEGIN:VCALENDAR
VERSION:2.0
PRODID:GlueUp
CALSCALE:GREGORIAN
BEGIN:VTIMEZONE
TZID:UTC
BEGIN:STANDARD
DTSTART:19700101T000000
TZOFFSETFROM:+0000
TZOFFSETTO:+0000
TZNAME:UTC
END:STANDARD
END:VTIMEZONE
BEGIN:VEVENT
TZ:+00
ORGANIZER;CN=Yoyo Wu:MAILTO:ywu@amchamchina.org
UID:42483-1776721090@https://amcham.glueup.cn
DTSTAMP:20260420T213810Z
DTSTART:20240116T060000Z
DTEND:20240116T083000Z
SUMMARY:【SOLD OUT】In-Person (CN) | PwC Finance Roundtable: Dealing with Chinese Tax Authorities [M2M Event]
DESCRIPTION:【SOLD OUT】In-Person (CN) | PwC Finance Roundtable: Dealing with Chinese Tax Authorities [M2M Event] by AmCham China\n\nJan 16, 2024 (2:00 PM - 4:30 PM)(GMT+8)\n\nFor more information, click here: https://amcham.glueup.cn/my/events/42483
LOCATION:PwC China Beijing Office - Beijing Room - 朝阳区东三环中路7号北京财富中心A座26层 北京厅 Beijing - China
BEGIN:VALARM
TRIGGER:-PT48H
REPEAT:4
DURATION:PT30M
ACTION:DISPLAY
END:VALARM
END:VEVENT
END:VCALENDAR